BEGIN:VCALENDAR
VERSION:2.0
PRODID:-//Beat Church Asheville - ECPv6.13.2.1//NONSGML v1.0//EN
CALSCALE:GREGORIAN
METHOD:PUBLISH
X-ORIGINAL-URL:https://beatchurchasheville.com
X-WR-CALDESC:Events for Beat Church Asheville
REFRESH-INTERVAL;VALUE=DURATION:PT1H
X-Robots-Tag:noindex
X-PUBLISHED-TTL:PT1H
BEGIN:VTIMEZONE
TZID:America/New_York
BEGIN:DAYLIGHT
TZOFFSETFROM:-0500
TZOFFSETTO:-0400
TZNAME:EDT
DTSTART:20240310T070000
END:DAYLIGHT
BEGIN:STANDARD
TZOFFSETFROM:-0400
TZOFFSETTO:-0500
TZNAME:EST
DTSTART:20241103T060000
END:STANDARD
END:VTIMEZONE
BEGIN:VEVENT
DTSTART;TZID=America/New_York:20241112T184500
DTEND;TZID=America/New_York:20241112T211500
DTSTAMP:20260421T121745
CREATED:20241102T021727Z
LAST-MODIFIED:20241104T151513Z
UID:1724-1731437100-1731446100@beatchurchasheville.com
SUMMARY:DJ Kofdrop
DESCRIPTION:About DJ Kofdrop\n\n\n\nDJ Kofdrop is an ecstatic dance DJ and bass DJ who specializes in creating transformative experiences through music. With an innate understanding of the power of rhythm and movement\, DJ Kofdrop curates sets that are designed to uplift\, inspire\, and connect with the audience on a deep level. His seamless transitions and carefully selected tracks create a dynamic and immersive atmosphere\, inviting dancers to let go and express themselves freely. DJ Kofdrop’s eclectic taste in music allows him to effortlessly blend genres\, incorporating elements of bass\, electronic\, world\, and tribal rhythms to create a unique sonic journey. \n\n\n\n\n\n\n\nSchedule\n\n\n\n6:45p Doors open6:55p Movement Lab7:15p Opening Circle7:25p DJ starts9:05p Sound Healing9:15p GoodnightTea service all evening\, included with entry. \n\n\n\nSound BATH\n\n\n\nTBD \n\n\n\nMovement Lab\n\n\n\nHOOP BASICS  \n\n\n\n\n\n\n\nAnah aka Hoopalicious has been a Hoop Dance performer\, teacher and pioneer for the last 25 years. Named by many as “the mother of modern hoop dance”\, she loves nothing more than to introduce others to the magic circle that has been a source of inspiration\, healing\, self-expression and FUN in her life. Whether you are just starting out\, have never hooped before\, or are a seasoned hooper\, you will surely be lit up by her workshop. \n\n\n\nBring a hoop if you have a favorite or you can use one of Anah’s hoops. \n\n\n\nMassage Therapist\n\n\n\n$1/minute \n\n\n\n\n\n\n\nHelp us set up or tear down in exchange for entry. \n\n\n\n\n\n\n\n\nSign-Up to Volunteer\n\n\n\n\n\n\n\n\nTickets\n\n\n\n\n\n\n\n\n\n\n\n\n\n\n\n\n\nTickets sometimes sell out. Pre-registration tickets are available until 3p the day of the event.Remaining available tickets are sold at the door at the sliding scale price via Venmo or cash.  \n\n\n\nPlease do not send Venmo for pre-registration; you will be refunded and it will not be a valid ticket. 
URL:https://beatchurchasheville.com/event/dj-kofdrop-2024-11-12/
LOCATION:The Weaver House\, 56 N Main Street\, Weaverville\, NC\, 28787\, United States
ATTACH;FMTTYPE=image/jpeg:https://beatchurchasheville.com/wp-content/uploads/2024/11/Kofdrop-e1730513588769.jpeg
END:VEVENT
END:VCALENDAR