BEGIN:VCALENDAR
VERSION:2.0
PRODID:-//Beat Church Asheville - ECPv6.13.2.1//NONSGML v1.0//EN
CALSCALE:GREGORIAN
METHOD:PUBLISH
X-ORIGINAL-URL:https://beatchurchasheville.com
X-WR-CALDESC:Events for Beat Church Asheville
REFRESH-INTERVAL;VALUE=DURATION:PT1H
X-Robots-Tag:noindex
X-PUBLISHED-TTL:PT1H
BEGIN:VTIMEZONE
TZID:America/New_York
BEGIN:DAYLIGHT
TZOFFSETFROM:-0500
TZOFFSETTO:-0400
TZNAME:EDT
DTSTART:20250309T070000
END:DAYLIGHT
BEGIN:STANDARD
TZOFFSETFROM:-0400
TZOFFSETTO:-0500
TZNAME:EST
DTSTART:20251102T060000
END:STANDARD
END:VTIMEZONE
BEGIN:VEVENT
DTSTART;TZID=America/New_York:20250211T184500
DTEND;TZID=America/New_York:20250211T211500
DTSTAMP:20260420T123255
CREATED:20250128T193526Z
LAST-MODIFIED:20250205T005507Z
UID:1866-1739299500-1739308500@beatchurchasheville.com
SUMMARY:DJ Mikaya
DESCRIPTION:Listen here: https://soundcloud.com/mikayaswabb \n\n\n\nAbout DJ Mikaya\n\n\n\nMIKAYA (Micah Swabb) is an Ecstatic Dance DJ and facilitator for cathartic dance events. He has a deep understanding of set arrangements for drug-free dance events\, yoga classes and ceremonies through his 12+ years of experience. MIKAYA’s mixes inspire meditation through movement in ways that widen the scope of one’s self-awareness and self-expression. \n\n\n\nHis mixes use a wide variety of musical genres like global bass\, tropical house\, techno\, glitch hop\, downtempo\, classical and ambient. These musical journeys begin peacefully\, build momentum and contrast\, and then land softly with resolution and grace. MIKAYA also produces mash-ups and mini-mixes in various genres. He teaches people how to make world class ecstatic dance mixes both from his home in Asheville\, NC and virtually online. \n\n\n\n \n\n\n\n\n\n\n\nSchedule\n\n\n\n6:45p Doors open6:55p Movement Lab7:15p Opening Circle7:25p DJ starts9:05p Sound Healing9:15p GoodnightTea service all evening\, included with entry. \n\n\n\nSound BATH\n\n\n\nTBD \n\n\n\nMovement Lab\n\n\n\nSOMA Breathwork with Kyle Espenshade \n\n\n\n \n\n\n\nKyle is a SOMA Breath Master Transformational Coach\, Qigong instructor\, music producer\, ecstatic dance DJ and Alkhemist with over a decade of experience in internal alkhemy arts. He is the founder of Soma Alkhemy\, a D’Jedi training and syncretic system of holistic healing and transformation for the modern day spiritual seeker which combines ancient alkhemy practices from both eastern and western traditions with modern technology and scientific understanding. Kyle will be offering Soma Breathwork as a warm up for Beat Church in February! \n\n\n\nMassage Therapist\n\n\n\n$2/minute \n\n\n\n\n\n\n\nHelp us set up or tear down in exchange for entry. \n\n\n\n\n\n\n\n\nSign-Up to Volunteer\n\n\n\n\n\n\n\n\nTickets\n\n\n\n\n\n\n\n\n\n\n\n\n\n\n\n\n\nTickets sometimes sell out. Pre-registration tickets are available until 3p the day of the event.Remaining available tickets are sold at the door at the sliding scale price via Venmo or cash.  \n\n\n\nPlease do not send Venmo for pre-registration; you will be refunded and it will not be a valid ticket. 
URL:https://beatchurchasheville.com/event/dj-mikaya-2025-02-11/
LOCATION:NC
ATTACH;FMTTYPE=image/jpeg:https://beatchurchasheville.com/wp-content/uploads/2025/01/DJXMikaya.jpg
END:VEVENT
END:VCALENDAR