BEGIN:VCALENDAR
VERSION:2.0
PRODID:-//Beat Church Asheville - ECPv6.13.2.1//NONSGML v1.0//EN
CALSCALE:GREGORIAN
METHOD:PUBLISH
X-WR-CALNAME:Beat Church Asheville
X-ORIGINAL-URL:https://beatchurchasheville.com
X-WR-CALDESC:Events for Beat Church Asheville
REFRESH-INTERVAL;VALUE=DURATION:PT1H
X-Robots-Tag:noindex
X-PUBLISHED-TTL:PT1H
BEGIN:VTIMEZONE
TZID:America/New_York
BEGIN:DAYLIGHT
TZOFFSETFROM:-0500
TZOFFSETTO:-0400
TZNAME:EDT
DTSTART:20250309T070000
END:DAYLIGHT
BEGIN:STANDARD
TZOFFSETFROM:-0400
TZOFFSETTO:-0500
TZNAME:EST
DTSTART:20251102T060000
END:STANDARD
END:VTIMEZONE
BEGIN:VEVENT
DTSTART;TZID=America/New_York:20250218T184500
DTEND;TZID=America/New_York:20250218T211500
DTSTAMP:20260420T123228
CREATED:20250131T011737Z
LAST-MODIFIED:20250212T165513Z
UID:1872-1739904300-1739913300@beatchurchasheville.com
SUMMARY:DJ Damiana
DESCRIPTION:Listen here:  \n\n\n\n\n\n\n\n\n\nAbout DJ Damiana\n\n\n\nDJ Damiana will take you on a global Journey of Sound and Spirit. Having traveled and performed within conscious communities in Bali\, Guatemala\, Philadelphia\, Florida\, Arizona\, New Mexico\, Colorado\, Oregon\, and California\, Damiana channels the energies and lessons from these diverse landscapes into his music. Each performance is a rich tapestry of sounds\, alchemized with intention to resonate deeply with the community he serves. He is thrilled to bring this fusion of ancient wisdom and modern vibrations to the magical community in Asheville. \n\n\n\n \n\n\n\n\n\n\n\nSchedule\n\n\n\n6:45p Doors open6:55p Movement Lab7:15p Opening Circle7:25p DJ starts9:05p Sound Healing9:15p GoodnightTea service all evening\, included with entry. \n\n\n\nSound BATH\n\n\n\nDavid Eisenberg \n\n\n\nMovement Lab\n\n\n\nSOMA Breathwork with Kyle Espenshade \n\n\n\n \n\n\n\nKyle is a SOMA Breath Master Transformational Coach\, Qigong instructor\, music producer\, ecstatic dance DJ and Alkhemist with over a decade of experience in internal alkhemy arts. He is the founder of Soma Alkhemy\, a D’Jedi training and syncretic system of holistic healing and transformation for the modern day spiritual seeker which combines ancient alkhemy practices from both eastern and western traditions with modern technology and scientific understanding. Kyle will be offering Soma Breathwork as a warm up for Beat Church in February! \n\n\n\nMassage Therapist\n\n\n\n$2/minute \n\n\n\n\n\n\n\nHelp us set up or tear down in exchange for entry. \n\n\n\n\n\n\n\n\nSign-Up to Volunteer\n\n\n\n\n\n\n\n\nTickets\n\n\n\n\n\n\n\n\n\n\n\n\n\n\n\n\n\nTickets sometimes sell out. Pre-registration tickets are available until 3p the day of the event.Remaining available tickets are sold at the door at the sliding scale door price of $18-30\, via Venmo or cash.  \n\n\n\nPlease do not send Venmo for pre-registration; you will be refunded and it will not be a valid ticket. 
URL:https://beatchurchasheville.com/event/dj-damiana-2025-02-18/
LOCATION:NC
END:VEVENT
END:VCALENDAR