BEGIN:VCALENDAR
VERSION:2.0
PRODID:-//Beat Church Asheville - ECPv6.13.2.1//NONSGML v1.0//EN
CALSCALE:GREGORIAN
METHOD:PUBLISH
X-WR-CALNAME:Beat Church Asheville
X-ORIGINAL-URL:https://beatchurchasheville.com
X-WR-CALDESC:Events for Beat Church Asheville
REFRESH-INTERVAL;VALUE=DURATION:PT1H
X-Robots-Tag:noindex
X-PUBLISHED-TTL:PT1H
BEGIN:VTIMEZONE
TZID:America/New_York
BEGIN:DAYLIGHT
TZOFFSETFROM:-0500
TZOFFSETTO:-0400
TZNAME:EDT
DTSTART:20250309T070000
END:DAYLIGHT
BEGIN:STANDARD
TZOFFSETFROM:-0400
TZOFFSETTO:-0500
TZNAME:EST
DTSTART:20251102T060000
END:STANDARD
END:VTIMEZONE
BEGIN:VEVENT
DTSTART;TZID=America/New_York:20250311T184500
DTEND;TZID=America/New_York:20250311T211500
DTSTAMP:20260420T105602
CREATED:20250208T170421Z
LAST-MODIFIED:20250220T200552Z
UID:1893-1741718700-1741727700@beatchurchasheville.com
SUMMARY:DJ Morphonic
DESCRIPTION:Listen here:  \n\n\n\n\n\n\n\n\n\nAbout DJ Morphonic\n\n\n\nJoin DJ Morphonic on the electronic caravan across the shifting sands of sound and time\, through the many diverse rhythms of the world\, to the shores of modern dance music. Gleefully dance cross boarders between the sacred\, the sexy\, the silly\, the shattering\, and the steadfast. Variety is the sonic spice trade of DJ Morphonic and he serves up the right flavor to fit the mood. Dance to hip shaking shanti ratchet and afro pop\, the undulating rhythms of world bass music\, ass shaking funk\, remix and twerk tunes\, and glide through the heart opening sounds of deep world house\, soul\, and so much more. \n\n\n\n \n\n\n\n\n\n\n\nSchedule\n\n\n\n6:45p Doors open6:55p Movement Lab7:15p Opening Circle7:25p DJ starts9:05p Sound Healing9:15p GoodnightTea service all evening\, included with entry. \n\n\n\nSound BATH\n\n\n\nTBD \n\n\n\nMovement Lab\n\n\n\nDynamic Vinyasa Flow and Yin flows with Heather Miller \n\n\n\n\n\n\n\n\n\nThis lab will combine vinyasa flow using traditional asanas while using the breath to flow from one pose to the next\, as well as dynamic movement through the major joints. We will utilize sun salutations\, warrior variations\, twists and joint mobility\, static shaking and strengthening and pranayama techniques throughout this short lab. Then we will slow down our movements and engage and lengthen through targeted muscle groups and fascia by using Yin yoga techniques. Yin uses your breath and engaging targeted structures within the body\, and opening through those structures with longer holds within poses. Vinyasa and yin combined can be a great compliment to any rigorous practice of body movement. When we increase our lengthen and flexibility\, we can gain strength with ease. \n\n\n\nPlease bring water and a yoga mat to enjoy a small session of invigorating and slow movements to bring yourself back to self. \n\n\n\n \n\n\n\nMassage Therapist\n\n\n\n$2/minute \n\n\n\n\n\n\n\nHelp us set up or tear down in exchange for entry. \n\n\n\n\n\n\n\n\nSign-Up to Volunteer\n\n\n\n\n\n\n\n\nTickets\n\n\n\n\n\n\n\n\n\n\n\n\n\n\n\n\n\nTickets sometimes sell out. Pre-registration tickets are available until 3p the day of the event.Remaining available tickets are sold at the door at the sliding scale door price of $18-30 via Venmo or cash.  \n\n\n\nPlease do not send Venmo for pre-registration; you will be refunded and it will not be a valid ticket. 
URL:https://beatchurchasheville.com/event/dj-morphonic-2025-03-11/
LOCATION:NC
ATTACH;FMTTYPE=image/jpeg:https://beatchurchasheville.com/wp-content/uploads/2025/02/DJ-Morphonic.jpeg
END:VEVENT
END:VCALENDAR