BEGIN:VCALENDAR
VERSION:2.0
PRODID:-//Beat Church Asheville - ECPv6.13.2.1//NONSGML v1.0//EN
CALSCALE:GREGORIAN
METHOD:PUBLISH
X-ORIGINAL-URL:https://beatchurchasheville.com
X-WR-CALDESC:Events for Beat Church Asheville
REFRESH-INTERVAL;VALUE=DURATION:PT1H
X-Robots-Tag:noindex
X-PUBLISHED-TTL:PT1H
BEGIN:VTIMEZONE
TZID:America/New_York
BEGIN:DAYLIGHT
TZOFFSETFROM:-0500
TZOFFSETTO:-0400
TZNAME:EDT
DTSTART:20250309T070000
END:DAYLIGHT
BEGIN:STANDARD
TZOFFSETFROM:-0400
TZOFFSETTO:-0500
TZNAME:EST
DTSTART:20251102T060000
END:STANDARD
END:VTIMEZONE
BEGIN:VEVENT
DTSTART;TZID=America/New_York:20250325T184500
DTEND;TZID=America/New_York:20250325T211500
DTSTAMP:20260420T105633
CREATED:20250208T181454Z
LAST-MODIFIED:20250324T205345Z
UID:1903-1742928300-1742937300@beatchurchasheville.com
SUMMARY:DJ Kofdrop
DESCRIPTION:Listen here:  \n\n\n\n\n\n\n\n\n\nAbout DJ Kofdrop\n\n\n\nDJ Kofdrop is a ecstatic dance DJ and bass DJ who specializes in creating transformative experiences through music. With an innate understanding of the power of rhythm and movement\, DJ Kofdrop curates sets that are designed to uplift\, inspire\, and connect with the audience on a deep level. His seamless transitions and carefully selected tracks create a dynamic and immersive atmosphere\, inviting dancers to let go and express themselves freely. DJ Kofdrop’s eclectic taste in music allows him to effortlessly blend genres\, incorporating elements of bass\, electronic\, world\, and tribal rhythms to create a unique sonic journey. \n\n\n\n \n\n\n\n\n\n\n\nSchedule\n\n\n\n6:45p Doors open6:55p Movement Lab7:15p Opening Circle7:25p DJ starts9:05p Sound Healing9:15p GoodnightTea service all evening\, included with entry. \n\n\n\nSound BATH\n\n\n\nTBD \n\n\n\nMovement Lab\n\n\n\nDynamic Vinyasa Flow and Yin Flows with Heather Miller \n\n\n\n\n\n\n\n\n\nThis lab will combine vinyasa flow using traditional asanas while using the breath to flow from one pose to the next\, as well as dynamic movement through the major joints. We will utilize sun salutations\, warrior variations\, twists and joint mobility\, static shaking and strengthening and pranayama techniques throughout this short lab. Then we will slow down our movements and engage and lengthen through targeted muscle groups and fascia by using Yin yoga techniques. Yin uses your breath and engaging targeted structures within the body\, and opening through those structures with longer holds within poses. Vinyasa and yin combined can be a great compliment to any rigorous practice of body movement. When we increase our lengthen and flexibility\, we can gain strength with ease. \n\n\n\nPlease bring water and a yoga mat to enjoy a small session of invigorating and slow movements to bring yourself back to self. \n\n\n\n \n\n\n\nMassage Therapist\n\n\n\n$2/minute \n\n\n\n\n\n\n\nHelp us set up or tear down in exchange for entry. \n\n\n\n\n\n\n\n\nSign-Up to Volunteer\n\n\n\n\n\n\n\n\nTickets\n\n\n\n\n\n\n\n\n\n\n\n\n\n\n\n\n\nTickets sometimes sell out. Pre-registration tickets are available until 3p the day of the event.Remaining available tickets are sold at the door at the sliding scale door price of $18-30 via Venmo or cash.  \n\n\n\nPlease do not send Venmo for pre-registration; you will be refunded and it will not be a valid ticket. 
URL:https://beatchurchasheville.com/event/dj-kofdrop-2025-03-25/
LOCATION:NC
ATTACH;FMTTYPE=image/jpeg:https://beatchurchasheville.com/wp-content/uploads/2024/11/Kofdrop-e1730513588769.jpeg
END:VEVENT
END:VCALENDAR