BEGIN:VCALENDAR
VERSION:2.0
PRODID:-//Beat Church Asheville - ECPv6.13.2.1//NONSGML v1.0//EN
CALSCALE:GREGORIAN
METHOD:PUBLISH
X-ORIGINAL-URL:https://beatchurchasheville.com
X-WR-CALDESC:Events for Beat Church Asheville
REFRESH-INTERVAL;VALUE=DURATION:PT1H
X-Robots-Tag:noindex
X-PUBLISHED-TTL:PT1H
BEGIN:VTIMEZONE
TZID:America/New_York
BEGIN:DAYLIGHT
TZOFFSETFROM:-0500
TZOFFSETTO:-0400
TZNAME:EDT
DTSTART:20250309T070000
END:DAYLIGHT
BEGIN:STANDARD
TZOFFSETFROM:-0400
TZOFFSETTO:-0500
TZNAME:EST
DTSTART:20251102T060000
END:STANDARD
END:VTIMEZONE
BEGIN:VEVENT
DTSTART;TZID=America/New_York:20250401T184500
DTEND;TZID=America/New_York:20250401T211500
DTSTAMP:20260420T093037
CREATED:20250228T013155Z
LAST-MODIFIED:20250326T130917Z
UID:1936-1743533100-1743542100@beatchurchasheville.com
SUMMARY:Illusion of Duality
DESCRIPTION:Listen here:  \n\n\n\n\n\n\n\n\n\nAbout The Illusion of duality\n\n\n\nThe Illusion of Duality can be found somewhere in between the Bass & the Treble… This alchemical artist has been on a musical journey since birth to truly re-discover his sound. Born & raised on the west coast playing strings\, percussion & keys\, The Illusion of Duality honed his craft on the decks far before electronic music was popular in the early 2000’s. With the use of frequency embedded in a universe of rhythm he navigates between the Darkness & the Light to bridge the gap between electronic and organic. On the dance floor\, his worldly sound will guide you on an ever evolving adventure of downtempo bass\, medicine house and pure vibes sure to lead you “home”. Beyond the good or the evil\, to a place where we are all ONE. \n\n\n\n \n\n\n\n\n\n\n\nSchedule\n\n\n\n6:45p Doors open6:55p Movement Lab7:15p Opening Circle7:25p DJ starts9:05p Sound Healing9:15p GoodnightTea service all evening\, included with entry. \n\n\n\nSound BATH\n\n\n\nNate & Tara \n\n\n\nMovement Lab\n\n\n\nExplore Desire in Movement with Hailey and Cailin \n\n\n\n\n\n\n\nWhat would it look like to be able to move from the truth of your Desire? To let go of what you think you want and be moved by what wants you? \n\n\n\nIn this series\, get ready to explore Desire through movement and connection with others. We’ll play in exercises that have you experience Desire from different angles – feeling the magnetic pull of Desire in your body\, being in the vulnerability of it with others\, and actually receiving it. Or not 😉 Cailin and Hailey’s approach is as reverent as it is irreverent\, breaking the mold of spiritual cliches in service to a deeper\, more foundational Truth. \n\n\n\n \n\n\n\nMassage Therapist\n\n\n\n$2/minute \n\n\n\n\n\n\n\nHelp us set up or tear down in exchange for entry. \n\n\n\n\n\n\n\n\nSign-Up to Volunteer\n\n\n\n\n\n\n\n\nTickets\n\n\n\n\n\n\n\n\n\n\n\n\n\n\n\n\n\nTickets sometimes sell out. Pre-registration tickets are available until 3p the day of the event.Remaining available tickets are sold at the door at the sliding scale door price of $18-30 via Venmo or cash.  \n\n\n\nPlease do not send Venmo for pre-registration; you will be refunded and it will not be a valid ticket. 
URL:https://beatchurchasheville.com/event/illusion-of-duality-2025-04-01/
LOCATION:Social Hall at the JCC\, 236 Charlotte Street\, Asheville\, NC\, 28801
ATTACH;FMTTYPE=image/png:https://beatchurchasheville.com/wp-content/uploads/2025/02/IllusionXofXDuality.png
END:VEVENT
END:VCALENDAR