BEGIN:VCALENDAR
VERSION:2.0
PRODID:-//Beat Church Asheville - ECPv6.13.2.1//NONSGML v1.0//EN
CALSCALE:GREGORIAN
METHOD:PUBLISH
X-WR-CALNAME:Beat Church Asheville
X-ORIGINAL-URL:https://beatchurchasheville.com
X-WR-CALDESC:Events for Beat Church Asheville
REFRESH-INTERVAL;VALUE=DURATION:PT1H
X-Robots-Tag:noindex
X-PUBLISHED-TTL:PT1H
BEGIN:VTIMEZONE
TZID:America/New_York
BEGIN:DAYLIGHT
TZOFFSETFROM:-0500
TZOFFSETTO:-0400
TZNAME:EDT
DTSTART:20250309T070000
END:DAYLIGHT
BEGIN:STANDARD
TZOFFSETFROM:-0400
TZOFFSETTO:-0500
TZNAME:EST
DTSTART:20251102T060000
END:STANDARD
END:VTIMEZONE
BEGIN:VEVENT
DTSTART;TZID=America/New_York:20250506T184500
DTEND;TZID=America/New_York:20250506T211500
DTSTAMP:20260420T080020
CREATED:20250330T194542Z
LAST-MODIFIED:20250506T010038Z
UID:1983-1746557100-1746566100@beatchurchasheville.com
SUMMARY:DJ Suede Raven
DESCRIPTION:Listen here: https://soundcloud.com/suede_raven \n\n\n\nAbout DJ Suede Raven\n\n\n\nSuede Raven is Ginkgo (they/them)\, a sonic alchemist weaving deep\, bass-heavy grooves with ethereal textures and global rhythms. With over a decade of ecstatic dance exploration\, they channel movement as liberation and connection. Expect deep cuts\, world grooves\, hypnotic synths\, and dance floor magic—all infused with rhythmic soul. Come dance\, get lost in the sound\, and let the bass move you. \n\n\n\n \n\n\n\n\n\n\n\nSchedule\n\n\n\n6:45p Doors open6:55p Movement Lab7:15p Opening Circle7:25p DJ starts9:05p Sound Healing9:15p GoodnightTea service all evening\, included with entry. \n\n\n\nSound BATH\n\n\n\nFreeya \n\n\n\nMovement Lab\n\n\n\nA Ritual of Embodied Inquiry with Be \n\n\n\nMovement is a sacred ritual—a gateway to the divine. In this practice\, we use breath\, intuitive movement\, and guided inquiry to open a conversation between body and spirit. Through sound and intention\, we create space to listen\, release\, and receive. \n\n\n\nMassage Therapist\n\n\n\n$2/minute \n\n\n\n\n\n\n\nHelp us set up or tear down in exchange for entry. \n\n\n\n\n\n\n\n\nSign-Up to Volunteer\n\n\n\n\n\n\n\n\nTickets\n\n\n\n\n\n\n\n\n\n\n\n\n\n\n\n\n\n\n\n\n\nTickets sometimes sell out. Pre-registration tickets are available until 3p the day of the event.Remaining available tickets are sold at the door at the door sliding scale price via Venmo or cash.  \n\n\n\nPlease do not send Venmo for pre-registration; you will be refunded and it will not be a valid ticket. 
URL:https://beatchurchasheville.com/event/dj-suede-raven-2025-05-06/
LOCATION:Social Hall at the JCC\, 236 Charlotte Street\, Asheville\, NC\, 28801
ATTACH;FMTTYPE=image/jpeg:https://beatchurchasheville.com/wp-content/uploads/2025/02/Suede-Raven.jpg
END:VEVENT
END:VCALENDAR