BEGIN:VCALENDAR
VERSION:2.0
PRODID:-//Beat Church Asheville - ECPv6.13.2.1//NONSGML v1.0//EN
CALSCALE:GREGORIAN
METHOD:PUBLISH
X-WR-CALNAME:Beat Church Asheville
X-ORIGINAL-URL:https://beatchurchasheville.com
X-WR-CALDESC:Events for Beat Church Asheville
REFRESH-INTERVAL;VALUE=DURATION:PT1H
X-Robots-Tag:noindex
X-PUBLISHED-TTL:PT1H
BEGIN:VTIMEZONE
TZID:America/New_York
BEGIN:DAYLIGHT
TZOFFSETFROM:-0500
TZOFFSETTO:-0400
TZNAME:EDT
DTSTART:20250309T070000
END:DAYLIGHT
BEGIN:STANDARD
TZOFFSETFROM:-0400
TZOFFSETTO:-0500
TZNAME:EST
DTSTART:20251102T060000
END:STANDARD
END:VTIMEZONE
BEGIN:VEVENT
DTSTART;TZID=America/New_York:20250513T184500
DTEND;TZID=America/New_York:20250513T211500
DTSTAMP:20260420T080029
CREATED:20250330T202245Z
LAST-MODIFIED:20250506T010656Z
UID:1986-1747161900-1747170900@beatchurchasheville.com
SUMMARY:DJ Kofdrop
DESCRIPTION:Listen here: https://soundcloud.com/kofdrop \n\n\n\nAbout DJ Kofdrop\n\n\n\nDJ Kofdrop is a ecstatic dance DJ and bass DJ who specializes in creating transformative experiences through music. With an innate understanding of the power of rhythm and movement\, DJ Kofdrop curates sets that are designed to uplift\, inspire\, and connect with the audience on a deep level. His seamless transitions and carefully selected tracks create a dynamic and immersive atmosphere\, inviting dancers to let go and express themselves freely. DJ Kofdrop’s eclectic taste in music allows him to effortlessly blend genres\, incorporating elements of bass\, electronic\, world\, and tribal rhythms to create a unique sonic journey. \n\n\n\n \n\n\n\n\n\n\n\nSchedule\n\n\n\n6:45p Doors open6:55p Movement Lab7:15p Opening Circle7:25p DJ starts9:05p Sound Healing9:15p GoodnightTea service all evening\, included with entry. \n\n\n\nSound BATH\n\n\n\nVanessa Kristina \n\n\n\nMovement Lab\n\n\n\nA Ritual of Embodied Inquiry with Be \n\n\n\nMovement is a sacred ritual—a gateway to the divine. In this practice\, we use breath\, intuitive movement\, and guided inquiry to open a conversation between body and spirit. Through sound and intention\, we create space to listen\, release\, and receive. \n\n\n\nMassage Therapist\n\n\n\n$2/minute \n\n\n\n\n\n\n\nHelp us set up or tear down in exchange for entry. \n\n\n\n\n\n\n\n\nSign-Up to Volunteer\n\n\n\n\n\n\n\n\nTickets\n\n\n\n\n\n\n\n\n\n\n\n\n\n\n\n\n\n\n\n\n\nTickets sometimes sell out. Pre-registration tickets are available until 3p the day of the event.Remaining available tickets are sold at the door at the door sliding scale price via Venmo or cash.  \n\n\n\nPlease do not send Venmo for pre-registration; you will be refunded and it will not be a valid ticket. 
URL:https://beatchurchasheville.com/event/dj-kofdrop-2025-05-13/
LOCATION:Social Hall at the JCC\, 236 Charlotte Street\, Asheville\, NC\, 28801
ATTACH;FMTTYPE=image/jpeg:https://beatchurchasheville.com/wp-content/uploads/2024/11/Kofdrop-e1730513588769.jpeg
END:VEVENT
END:VCALENDAR