BEGIN:VCALENDAR
VERSION:2.0
PRODID:-//Beat Church Asheville - ECPv6.13.2.1//NONSGML v1.0//EN
CALSCALE:GREGORIAN
METHOD:PUBLISH
X-WR-CALNAME:Beat Church Asheville
X-ORIGINAL-URL:https://beatchurchasheville.com
X-WR-CALDESC:Events for Beat Church Asheville
REFRESH-INTERVAL;VALUE=DURATION:PT1H
X-Robots-Tag:noindex
X-PUBLISHED-TTL:PT1H
BEGIN:VTIMEZONE
TZID:America/New_York
BEGIN:DAYLIGHT
TZOFFSETFROM:-0500
TZOFFSETTO:-0400
TZNAME:EDT
DTSTART:20250309T070000
END:DAYLIGHT
BEGIN:STANDARD
TZOFFSETFROM:-0400
TZOFFSETTO:-0500
TZNAME:EST
DTSTART:20251102T060000
END:STANDARD
END:VTIMEZONE
BEGIN:VEVENT
DTSTART;TZID=America/New_York:20250701T184500
DTEND;TZID=America/New_York:20250701T211500
DTSTAMP:20260420T053254
CREATED:20250602T172951Z
LAST-MODIFIED:20250625T105510Z
UID:2071-1751395500-1751404500@beatchurchasheville.com
SUMMARY:DJ Osiah
DESCRIPTION:Listen here:  \n\n\n\n\n\n\n\n\n\nAbout DJ Osiah\n\n\n\nAs a dance doula\, Osiah is here to help birth you through the portal of self-expression into a state of fully liberated ecstasy. His mixes are genre-bending\, full spectrum experiences where no feeling is off limits\, no music too taboo\, where emotional archetypes are woven together to tell a story that the body understands. He guides you on a journey from stillness to chaos and then back home\, keeping you in that place beyond thought\, in that present moment primal feeling\, redefining what is holy\, wholesome and spiritual. So come twerk yourself to freedom. \n\n\n\n \n\n\n\n\n\n\n\nSchedule\n\n\n\n6:45p Doors open6:55p Movement Lab7:15p Opening Circle7:25p DJ starts9:05p Sound Healing9:15p GoodnightTea service all evening\, included with entry. \n\n\n\nSound BATH\n\n\n\nTBD \n\n\n\nMovement Lab\n\n\n\nGround down into your body with Anna (ah-na) of Earthly Care \n\n\n\nUsing our breath as the drumbeat\, this energy work series will be all about dropping deeply into the body. We’ll connect with the land and mountains we call our home\, and enter the dance in true presence. Through our awareness we can receive the delicious medicine offered by the present moment! And truly shake out and release what’s needing to be moved through us. Together we’ll weave an energetic + loving container to boogie down in. Let’s root into our bodies and feel the bliss of authentic embodiment! \n\n\n\n \n\n\n\nMassage Therapist\n\n\n\n$2/minute \n\n\n\n\n\n\n\nHelp us set up or tear down in exchange for entry. \n\n\n\n\n\n\n\n\nSign-Up to Volunteer\n\n\n\n\n\n\n\n\nonline tickets\n\n\n\n\n\n\n\n\n\n\n\n\n\n\n\n\n\nTickets sometimes sell out. Pre-registration tickets are available until 3p the day of the event.Remaining available tickets are sold at the door at the sliding scale door price of $18-30 via Venmo or cash.  \n\n\n\nPlease do not send Venmo for pre-registration; you will be refunded and it will not be a valid ticket. 
URL:https://beatchurchasheville.com/event/osiah-2025-07-01/
LOCATION:Social Hall at the JCC\, 236 Charlotte Street\, Asheville\, NC\, 28801
ATTACH;FMTTYPE=image/jpeg:https://beatchurchasheville.com/wp-content/uploads/2025/05/DJXOsiah.jpg
END:VEVENT
END:VCALENDAR