BEGIN:VCALENDAR
VERSION:2.0
PRODID:-//Beat Church Asheville - ECPv6.13.2.1//NONSGML v1.0//EN
CALSCALE:GREGORIAN
METHOD:PUBLISH
X-ORIGINAL-URL:https://beatchurchasheville.com
X-WR-CALDESC:Events for Beat Church Asheville
REFRESH-INTERVAL;VALUE=DURATION:PT1H
X-Robots-Tag:noindex
X-PUBLISHED-TTL:PT1H
BEGIN:VTIMEZONE
TZID:America/New_York
BEGIN:DAYLIGHT
TZOFFSETFROM:-0500
TZOFFSETTO:-0400
TZNAME:EDT
DTSTART:20250309T070000
END:DAYLIGHT
BEGIN:STANDARD
TZOFFSETFROM:-0400
TZOFFSETTO:-0500
TZNAME:EST
DTSTART:20251102T060000
END:STANDARD
END:VTIMEZONE
BEGIN:VEVENT
DTSTART;TZID=America/New_York:20250805T184500
DTEND;TZID=America/New_York:20250805T211500
DTSTAMP:20260420T041522
CREATED:20250702T212422Z
LAST-MODIFIED:20250725T182457Z
UID:2092-1754419500-1754428500@beatchurchasheville.com
SUMMARY:CASTANEA
DESCRIPTION:Listen here: https://soundcloud.com/castaneasounds \n\n\n\nAbout Castanea\n\n\n\nUnder the alias CASTANEA\, Rising Appalachia’s David Brown takes to the stage to remix and combine acoustic and electronic sound. Along with the instruments for which he’s best known – the upright bass and baritone guitar – Brown’s skills cross over to turntables and beat making\, through which a lush sound emerges. The name of the project\, CASTANEA\, points to a tree that is slowly recovering from the brink of extinction in the eastern forests of North America. \n\n\n\n \n\n\n\n\n\n\n\nSchedule\n\n\n\n6:45p Doors open6:55p Movement Lab7:15p Opening Circle7:25p DJ starts9:05p Sound Healing9:15p GoodnightTea service all evening\, included with entry. \n\n\n\nSound BATH\n\n\n\nSri Maya \n\n\n\nMovement Lab\n\n\n\nThe Movement Lab for the month of August will be led by John E Gray\, aka Professor Gray Balls\, encourager of play\, facilitator of improv arts\, and instigator of consenting connection.  \n\n\n\n\n\n\n\nThis lab will focus on ways us human beings can have fun by being humans. Each week we’ll focus on a different way we can collaboratively create by getting our thinky brains out of the way and letting our subconscious drive us to playful places like Love City and Silly Town\, maybe even Togethernessberg. \n\n\n\nVocal Toning Lab  \n\n\n\nWith our vocal powers combined we create tones that align with our chakras allowing for increased oxytocin a.k.a. the “bonding hormone” helping build trust and empathy even amongst strangers. This happens in part because our brainwaves and heart rates sync through a phenomenon known as entrainment (what a cool term!). It also holds the not scientifically backed possibility of opening higher dimension timeline portals to new Earth paradise. What a bonus! \n\n\n\nMassage Therapist\n\n\n\n$2/minute \n\n\n\n\n\n\n\nHelp us set up or tear down in exchange for entry. \n\n\n\n\n\n\n\n\nSign-Up to Volunteer\n\n\n\n\n\n\n\n\nTickets\n\n\n\n\n\n\n\n\n\n\n\n\n\n\n\n\n\nTickets sometimes sell out. Pre-registration tickets are available until 3p the day of the event.Remaining available tickets are sold at the door at the sliding scale price via Venmo or cash.  \n\n\n\nPlease do not send Venmo for pre-registration; you will be refunded and it will not be a valid ticket. 
URL:https://beatchurchasheville.com/event/castanea-2025-08-05/
LOCATION:Social Hall at the JCC\, 236 Charlotte Street\, Asheville\, NC\, 28801
ATTACH;FMTTYPE=image/jpeg:https://beatchurchasheville.com/wp-content/uploads/2025/07/Castenea.jpg
END:VEVENT
END:VCALENDAR