BEGIN:VCALENDAR
VERSION:2.0
PRODID:-//Beat Church Asheville - ECPv6.13.2.1//NONSGML v1.0//EN
CALSCALE:GREGORIAN
METHOD:PUBLISH
X-ORIGINAL-URL:https://beatchurchasheville.com
X-WR-CALDESC:Events for Beat Church Asheville
REFRESH-INTERVAL;VALUE=DURATION:PT1H
X-Robots-Tag:noindex
X-PUBLISHED-TTL:PT1H
BEGIN:VTIMEZONE
TZID:America/New_York
BEGIN:DAYLIGHT
TZOFFSETFROM:-0500
TZOFFSETTO:-0400
TZNAME:EDT
DTSTART:20250309T070000
END:DAYLIGHT
BEGIN:STANDARD
TZOFFSETFROM:-0400
TZOFFSETTO:-0500
TZNAME:EST
DTSTART:20251102T060000
END:STANDARD
END:VTIMEZONE
BEGIN:VEVENT
DTSTART;TZID=America/New_York:20250812T184500
DTEND;TZID=America/New_York:20250812T211500
DTSTAMP:20260420T041541
CREATED:20250703T004327Z
LAST-MODIFIED:20250725T182916Z
UID:2099-1755024300-1755033300@beatchurchasheville.com
SUMMARY:DJ Mikaya
DESCRIPTION:Listen here: https://soundcloud.com/mikayaswabb \n\n\n\nAbout DJ Mikaya\n\n\n\nMIKAYA (Micah Swabb) is an Ecstatic Dance DJ and facilitator for cathartic dance events. He has a deep understanding of set arrangements for drug-free dance events\, yoga classes and ceremonies through his 12+ years of experience. MIKAYA’s mixes inspire meditation through movement in ways that widen the scope of one’s self-awareness and self-expression. \n\n\n\nHis mixes use a wide variety of musical genres like global bass\, tropical house\, techno\, glitch hop\, downtempo\, classical and ambient. These musical journeys begin peacefully\, build momentum and contrast\, and then land softly with resolution and grace. MIKAYA also produces mash-ups and mini-mixes in various genres. He teaches people how to make world class ecstatic dance mixes both from his home in Asheville\, NC and virtually online. \n\n\n\n \n\n\n\n\n\n\n\nSchedule\n\n\n\n6:45p Doors open6:55p Movement Lab7:15p Opening Circle7:25p DJ starts9:05p Sound Healing9:15p GoodnightTea service all evening\, included with entry. \n\n\n\nSound BATH\n\n\n\nXue Lionstone \n\n\n\nMovement Lab\n\n\n\nThe Movement Lab for the month of August will be led by John E Gray\, aka Professor Gray Balls\, encourager of play\, facilitator of improv arts\, and instigator of consenting connection.  \n\n\n\n\n\n\n\nThis lab will focus on ways us human beings can have fun by being humans. Each week we’ll focus on a different way we can collaboratively create by getting our thinky brains out of the way and letting our subconscious drive us to playful places like Love City and Silly Town\, maybe even Togethernessberg. \n\n\n\nVocal Improv to Instrumental Music Lab  \n\n\n\nWe’ll be accompanying instrumental music tracks with silly jibberish vocals as an easy gateway to explore how we can get our brains out of the way to let our subconscious flow. Building towards the utilization of on-the-spot lyric creation using the tactics of storytelling\, theme exploration\, perhaps even therapeutically communicating with loved ones in a way you find challenging to do in their presence. This\, in the communal support of letting go of ego to make whatever singing\, grunting\, groaning\, whaling\, moaning\, clapping\, snapping\, beatboxing\, rapping sounds the music and your soul call you to make. Chances are\, you’ll be surprised what comes out. \n\n\n\nMassage Therapist\n\n\n\n$2/minute \n\n\n\n\n\n\n\nHelp us set up or tear down in exchange for entry. \n\n\n\n\n\n\n\n\nSign-Up to Volunteer\n\n\n\n\n\n\n\n\nTickets\n\n\n\n\n\n\n\n\n\n\n\n\n\n\n\n\n\n\n\n\n\nTickets sometimes sell out. Pre-registration tickets are available until 3p the day of the event.Remaining available tickets are sold at the door at the door sliding scale price via Venmo or cash.  \n\n\n\nPlease do not send Venmo for pre-registration; you will be refunded and it will not be a valid ticket. 
URL:https://beatchurchasheville.com/event/dj-mikaya-2025-08-12/
LOCATION:Social Hall at the JCC\, 236 Charlotte Street\, Asheville\, NC\, 28801
ATTACH;FMTTYPE=image/jpeg:https://beatchurchasheville.com/wp-content/uploads/2025/01/DJXMikaya.jpg
END:VEVENT
END:VCALENDAR