BEGIN:VCALENDAR
VERSION:2.0
PRODID:-//Beat Church Asheville - ECPv6.13.2.1//NONSGML v1.0//EN
CALSCALE:GREGORIAN
METHOD:PUBLISH
X-WR-CALNAME:Beat Church Asheville
X-ORIGINAL-URL:https://beatchurchasheville.com
X-WR-CALDESC:Events for Beat Church Asheville
REFRESH-INTERVAL;VALUE=DURATION:PT1H
X-Robots-Tag:noindex
X-PUBLISHED-TTL:PT1H
BEGIN:VTIMEZONE
TZID:America/New_York
BEGIN:DAYLIGHT
TZOFFSETFROM:-0500
TZOFFSETTO:-0400
TZNAME:EDT
DTSTART:20240310T070000
END:DAYLIGHT
BEGIN:STANDARD
TZOFFSETFROM:-0400
TZOFFSETTO:-0500
TZNAME:EST
DTSTART:20241103T060000
END:STANDARD
END:VTIMEZONE
BEGIN:VEVENT
DTSTART;TZID=America/New_York:20241203T184500
DTEND;TZID=America/New_York:20241203T211500
DTSTAMP:20260420T141237
CREATED:20241121T020848Z
LAST-MODIFIED:20241122T011528Z
UID:1775-1733251500-1733260500@beatchurchasheville.com
SUMMARY:DJ OSIAH
DESCRIPTION:About DJ osiah\n\n\n\nDJ Osiah is a dancer turned DJ\, crafting ecstatic dance medicine journeys that break through the limiting ideas as to what “spiritual” is supposed to look like. Join me and move from the mental space to the heart space and beyond. Come\, experience God’s secret ratchet side\, as I commit random acts of chaotic goodness\, and drop dope bangers for nothing less than the ecstatic rebirth of your inner wild child. \n\n\n\n\n\n\n\nSchedule\n\n\n\n6:45p Doors open6:55p Movement Lab7:15p Opening Circle7:25p DJ starts9:05p Sound Healing9:15p GoodnightTea service all evening\, included with entry. \n\n\n\nSound BATH\n\n\n\nTaylor Clark Johnson \n\n\n\nMovement Lab\n\n\n\nTouched: A Contact Improv Fundamentals Series \n\n\n\n\n\n\n\nIn this series\, participants will learn some foundational skills on how to touch and be touched. In this taster class\, you will get a glimpse into the depths of this form – contact improvisation. The class will be taught with a playful lense and will focus on building capacities to track and sense while working with a partner. Hana’s style of teaching is fun\, with a foundation around anatomy and physics as well as deep somatic presence. These classes are for all levels\, each class will build on each other but drop ins are welcome! \n\n\n\nHana is a dance and movement facilitator with a focus on somatics\, embodiment\, and trauma therapy. Hana’s background with movement began as a child\, with 7 years of Bharatnatyam\, a traditional South Indian temple dance. Hana’s upbringing in India was filled with yoga and meditation\, inspiring her to obtain her Yoga Teacher Certification at 19 (2013) and initiating her passion for embodiment. In 2016\, Hana began to explore somatic movement techniques\, such as Body Mind Centering\, Axis Syllabus\, Alexander Technique\, Feldenkreis and more\, as well as contact improvisation. Since then\, Hana has traveled the globe for several years of intensive study with world renown teachers such as Nita Little\, Ray Chung\, Kira Kirsch\, Frey Faust\, and many more. In the last two years Hana received her certification in integrative somatic trauma therapy and has been exploring the therapeutic benefits of embodiment and the arts. Hana has been teaching for the last 7 years with a focus on: sound and movement improvisation\, expressive movement arts\, exploring touch and sensation\, solo improvisation\, contact improvisation\, anatomy in dynamic motion (influenced by the axis syllabus)\, fighting monkey\, and Body Mind Centering.  \n\n\n\nMassage Therapist\n\n\n\n$1/minute \n\n\n\n\n\n\n\nHelp us set up or tear down in exchange for entry. \n\n\n\n\n\n\n\n\nSign-Up to Volunteer\n\n\n\n\n\n\n\n\nTickets\n\n\n\n\n\n\n\n\n\n\n\n\n\n\n\n\n\nTickets sometimes sell out. Pre-registration tickets are available until 3p the day of the event.Remaining available tickets are sold at the door at the sliding scale price via Venmo or cash.  \n\n\n\nPlease do not send Venmo for pre-registration; you will be refunded and it will not be a valid ticket. 
URL:https://beatchurchasheville.com/event/dj-osiah-2024-12-03/
LOCATION:NC
ATTACH;FMTTYPE=image/jpeg:https://beatchurchasheville.com/wp-content/uploads/2024/10/djosiahatbeatchurch.jpg
END:VEVENT
BEGIN:VEVENT
DTSTART;TZID=America/New_York:20241210T184500
DTEND;TZID=America/New_York:20241210T211500
DTSTAMP:20260420T141237
CREATED:20241123T193030Z
LAST-MODIFIED:20241123T193248Z
UID:1785-1733856300-1733865300@beatchurchasheville.com
SUMMARY:DJ Illusion Of Duality
DESCRIPTION:About DJ Illusion Of Duality\n\n\n\nThe Illusion of Duality can be found somewhere in between the Bass & the Treble… This alchemical artist has been on a musical journey since birth to truly re-discover his sound. Born & raised on the west coast playing strings\, percussion & keys\, The Illusion of Duality honed his craft on the decks far before electronic music was popular in the early 2000’s. With the use of frequency embedded in a universe of rhythm he navigates between the Darkness & the Light to bridge the gap between electronic and organic. On the dance floor\, his worldly sound will guide you on an ever evolving adventure of downtempo bass\, medicine house and pure vibes sure to lead you “home”. Beyond the good or the evil\, to a place where we are all ONE. \n\n\n\n\n\n\n\nSchedule\n\n\n\n6:45p Doors open6:55p Movement Lab7:15p Opening Circle7:25p DJ starts9:05p Sound Healing9:15p GoodnightTea service all evening\, included with entry. \n\n\n\nSound BATH\n\n\n\nTBD \n\n\n\nMovement Lab\n\n\n\nTouched: A Contact Improv Fundamentals Series with Hana \n\n\n\n\n\n\n\nIn this series\, participants will learn some foundational skills on how to touch and be touched. In this taster class\, you will get a glimpse into the depths of this form – contact improvisation. The class will be taught with a playful lense and will focus on building capacities to track and sense while working with a partner. Hana’s style of teaching is fun\, with a foundation around anatomy and physics as well as deep somatic presence. These classes are for all levels\, each class will build on each other but drop ins are welcome! \n\n\n\nHana is a dance and movement facilitator with a focus on somatics\, embodiment\, and trauma therapy. Hana’s background with movement began as a child\, with 7 years of Bharatnatyam\, a traditional South Indian temple dance. Hana’s upbringing in India was filled with yoga and meditation\, inspiring her to obtain her Yoga Teacher Certification at 19 (2013) and initiating her passion for embodiment. In 2016\, Hana began to explore somatic movement techniques\, such as Body Mind Centering\, Axis Syllabus\, Alexander Technique\, Feldenkreis and more\, as well as contact improvisation. Since then\, Hana has traveled the globe for several years of intensive study with world renown teachers such as Nita Little\, Ray Chung\, Kira Kirsch\, Frey Faust\, and many more. In the last two years Hana received her certification in integrative somatic trauma therapy and has been exploring the therapeutic benefits of embodiment and the arts. Hana has been teaching for the last 7 years with a focus on: sound and movement improvisation\, expressive movement arts\, exploring touch and sensation\, solo improvisation\, contact improvisation\, anatomy in dynamic motion (influenced by the axis syllabus)\, fighting monkey\, and Body Mind Centering. \n\n\n\nMassage Therapist\n\n\n\n$1/minute \n\n\n\n\n\n\n\nHelp us set up or tear down in exchange for entry. \n\n\n\n\n\n\n\n\nSign-Up to Volunteer\n\n\n\n\n\n\n\n\nTickets\n\n\n\n\n\n\n\n\n\n\n\n\n\n\n\n\n\nTickets sometimes sell out. Pre-registration tickets are available until 3p the day of the event.Remaining available tickets are sold at the door at the sliding scale price via Venmo or cash.  \n\n\n\nPlease do not send Venmo for pre-registration; you will be refunded and it will not be a valid ticket. 
URL:https://beatchurchasheville.com/event/dj-illusionofduality-2024-12-10/
LOCATION:NC
ATTACH;FMTTYPE=image/jpeg:https://beatchurchasheville.com/wp-content/uploads/2023/08/illusion-insta-2.jpg
END:VEVENT
BEGIN:VEVENT
DTSTART;TZID=America/New_York:20241217T184500
DTEND;TZID=America/New_York:20241217T211500
DTSTAMP:20260420T141238
CREATED:20241207T213343Z
LAST-MODIFIED:20241208T040716Z
UID:1799-1734461100-1734470100@beatchurchasheville.com
SUMMARY:DJ Hunter the Gatherer
DESCRIPTION:https://soundcloud.com/hunter_the_gatherer/beat-church-8-6-24-sacred-fun-sexyhurch-set-61323\n\n\n\n\nAbout DJ Hunter the Gatherer\n\n\n\nHunter the Gatherer is a musical project dedicated to the search for eclectic global sounds\, compiling them together\, and creating a journey of prayer for the dancer.Being a Dancer and feeling the power when the musical sounds activate certain parts of my body has always been a feat of awe and wonder. \n\n\n\nHe plays for those who came before and will come after. \n\n\n\n \n\n\n\n\n\n\n\nSchedule\n\n\n\n6:45p Doors open6:55p Movement Lab7:15p Opening Circle7:25p DJ starts9:05p Sound Healing9:15p GoodnightTea service all evening\, included with entry. \n\n\n\nSound BATH\n\n\n\nJenny Love \n\n\n\nMovement Lab\n\n\n\nTouched: A Contact Improv Fundamentals Series with Hana \n\n\n\n\n\n\n\nIn this series\, participants will learn some foundational skills on how to touch and be touched. In this taster class\, you will get a glimpse into the depths of this form – contact improvisation. The class will be taught with a playful lense and will focus on building capacities to track and sense while working with a partner. Hana’s style of teaching is fun\, with a foundation around anatomy and physics as well as deep somatic presence. These classes are for all levels\, each class will build on each other but drop ins are welcome! \n\n\n\nHana is a dance and movement facilitator with a focus on somatics\, embodiment\, and trauma therapy. Hana’s background with movement began as a child\, with 7 years of Bharatnatyam\, a traditional South Indian temple dance. Hana’s upbringing in India was filled with yoga and meditation\, inspiring her to obtain her Yoga Teacher Certification at 19 (2013) and initiating her passion for embodiment. In 2016\, Hana began to explore somatic movement techniques\, such as Body Mind Centering\, Axis Syllabus\, Alexander Technique\, Feldenkreis and more\, as well as contact improvisation. Since then\, Hana has traveled the globe for several years of intensive study with world renown teachers such as Nita Little\, Ray Chung\, Kira Kirsch\, Frey Faust\, and many more. In the last two years Hana received her certification in integrative somatic trauma therapy and has been exploring the therapeutic benefits of embodiment and the arts. Hana has been teaching for the last 7 years with a focus on: sound and movement improvisation\, expressive movement arts\, exploring touch and sensation\, solo improvisation\, contact improvisation\, anatomy in dynamic motion (influenced by the axis syllabus)\, fighting monkey\, and Body Mind Centering. \n\n\n\nMassage Therapist\n\n\n\n$1/minute \n\n\n\n\n\n\n\nHelp us set up or tear down in exchange for entry. \n\n\n\n\n\n\n\n\nSign-Up to Volunteer\n\n\n\n\n\n\n\n\nTickets\n\n\n\n\n\n\n\n\n\n\n\n\n\n\n\n\n\nTickets sometimes sell out. Pre-registration tickets are available until 3p the day of the event.Remaining available tickets are sold at the door at the sliding scale price via Venmo or cash.  \n\n\n\nPlease do not send Venmo for pre-registration; you will be refunded and it will not be a valid ticket. 
URL:https://beatchurchasheville.com/event/dj-hunter-the-gatherer-2024-12-17/
LOCATION:NC
END:VEVENT
BEGIN:VEVENT
DTSTART;TZID=America/New_York:20241224T184500
DTEND;TZID=America/New_York:20241224T211500
DTSTAMP:20260420T141238
CREATED:20241207T220530Z
LAST-MODIFIED:20241212T015912Z
UID:1805-1735065900-1735074900@beatchurchasheville.com
SUMMARY:Nata das live set
DESCRIPTION:Listen here: https://www.facebook.com/dancemedicne/videos/1426657360719783urch-8-6-24-sacred-fun-sexyhurch-set-61323 \n\n\n\nAbout Nata Das\n\n\n\nServant of Dance (Nata Das) ensemble that has been in Asheville for the last 12 years. We are musicians who observe\, support\, and hold space for the connection between dancers and musicians formed during a live dance/music event. One common thread in the music of NataDas at this point is Trey Crispin\, the curator and leader of these ensembles for live performance. He has been performing live ecstatic dances for 15 years. NataDas – Servant of Dance – is a group that creates a deep moving tapestry of sound that looks to the movements of dancers as our written music. In our opinion everyone gets farther when we do these things together and not alone. Live music and movement connected are the medicine we bring to our community. \n\n\n\n \n\n\n\n\n\n\n\nSchedule\n\n\n\n6:45p Doors open6:55p Movement Lab7:15p Opening Circle7:25p DJ starts9:05p Sound Healing9:15p GoodnightTea service all evening\, included with entry. \n\n\n\nSound BATH\n\n\n\nNata Das \n\n\n\nMovement Lab\n\n\n\nTouched: A Contact Improv Fundamentals Series with Hana \n\n\n\n\n\n\n\nIn this series\, participants will learn some foundational skills on how to touch and be touched. In this taster class\, you will get a glimpse into the depths of this form – contact improvisation. The class will be taught with a playful lense and will focus on building capacities to track and sense while working with a partner. Hana’s style of teaching is fun\, with a foundation around anatomy and physics as well as deep somatic presence. These classes are for all levels\, each class will build on each other but drop ins are welcome! \n\n\n\nHana is a dance and movement facilitator with a focus on somatics\, embodiment\, and trauma therapy. Hana’s background with movement began as a child\, with 7 years of Bharatnatyam\, a traditional South Indian temple dance. Hana’s upbringing in India was filled with yoga and meditation\, inspiring her to obtain her Yoga Teacher Certification at 19 (2013) and initiating her passion for embodiment. In 2016\, Hana began to explore somatic movement techniques\, such as Body Mind Centering\, Axis Syllabus\, Alexander Technique\, Feldenkreis and more\, as well as contact improvisation. Since then\, Hana has traveled the globe for several years of intensive study with world renown teachers such as Nita Little\, Ray Chung\, Kira Kirsch\, Frey Faust\, and many more. In the last two years Hana received her certification in integrative somatic trauma therapy and has been exploring the therapeutic benefits of embodiment and the arts. Hana has been teaching for the last 7 years with a focus on: sound and movement improvisation\, expressive movement arts\, exploring touch and sensation\, solo improvisation\, contact improvisation\, anatomy in dynamic motion (influenced by the axis syllabus)\, fighting monkey\, and Body Mind Centering. \n\n\n\nMassage Therapist\n\n\n\n$2/minute \n\n\n\n\n\n\n\nHelp us set up or tear down in exchange for entry. \n\n\n\n\n\n\n\n\nSign-Up to Volunteer\n\n\n\n\n\n\n\n\nTickets\n\n\n\n\n\n\n\n\n\n\n\n\n\n\n\n\n\nTickets sometimes sell out. Pre-registration tickets are available until 3p the day of the event.Remaining available tickets are sold at the door at the sliding scale price via Venmo or cash.  \n\n\n\nPlease do not send Venmo for pre-registration; you will be refunded and it will not be a valid ticket. 
URL:https://beatchurchasheville.com/event/nata-das-live-set-2024-12-24/
LOCATION:NC
END:VEVENT
BEGIN:VEVENT
DTSTART;TZID=America/New_York:20241231T184500
DTEND;TZID=America/New_York:20241231T211500
DTSTAMP:20260420T141238
CREATED:20241208T042645Z
LAST-MODIFIED:20241230T015118Z
UID:1811-1735670700-1735679700@beatchurchasheville.com
SUMMARY:NYE Cacao ceremony & DJ Mikaya
DESCRIPTION:About DJ Mikaya\n\n\n\nMIKAYA (Micah Swabb) is an Ecstatic Dance DJ and facilitator for cathartic dance events. He has a deep understanding of set arrangements for drug-free dance events\, yoga classes and ceremonies through his 12+ years of experience. MIKAYA’s mixes inspire meditation through movement in ways that widen the scope of one’s self-awareness and self-expression. \n\n\n\n \n\n\n\n\n\n\n\nSchedule\n\n\n\n6:45p Doors open6:55p Cacao Ceremony7:25p DJ starts9:05p Sound Healing9:15p Goodbye & Happy New YearTea service all evening\, included with entry. \n\n\n\nSound BATH\n\n\n\nDJ Mikaya \n\n\n\ncacao ceremony to bring in the New Year\n\n\n\nBy Sinclair Fleetwood \n\n\n\n\n\n\n\nNYE Cacao Ceremony \n\n\n\nJoin us inside the transition portal welcoming a new calendar year and inviting in the winter season of dreaming. We will be supported by Madre Cacao as we offer prayers of gratitude\, release what is ready to go\, and call in the vibration we want to hold into the coming year. \n\n\n\nTogether we will witness each other by being present and connected through song and music. Open your heart and prepare for the final dance of the year by making room to dream\, rest\, and restore. \n\n\n\nSinclair will be serving ceremonial cacao sustainably grown and sourced in Esmeraldas\, Ecuador\, and crafted by master chocolatier Diana Oviedo of Hayulima Spiritual Sanctuary in Mindo. \n\n\n\nYou can learn more about Sinclair and her work on her website: https://sinclairfleetwood.com \n\n\n\nMassage Therapist\n\n\n\n$2/minute \n\n\n\n\n\n\n\nHelp us set up or tear down in exchange for entry. \n\n\n\n\n\n\n\n\nSign-Up to Volunteer\n\n\n\n\n\n\n\n\nTickets\n\n\n\n\n\n\n\n\n\n\n\n\n\n\n\n\n\nTickets for the Cacao Ceremony portion of the evening are sold out\, however if you still want to dance\, arrive at 7:30p for a door ticket (while supplies last) at $35-50.Remaining available tickets are sold at the door at the sliding scale price via Venmo or cash.  \n\n\n\nPlease do not send Venmo for pre-registration; you will be refunded and it will not be a valid ticket. 
URL:https://beatchurchasheville.com/event/nye-cacao-ceremony-amp-dj-mikaya-2024-12-31/
LOCATION:The Weaver House\, 56 N Main Street\, Weaverville\, NC\, 28787\, United States
ATTACH;FMTTYPE=image/jpeg:https://beatchurchasheville.com/wp-content/uploads/2023/07/micahpic.jpg
END:VEVENT
END:VCALENDAR