BEGIN:VCALENDAR
VERSION:2.0
PRODID:-//Beat Church Asheville - ECPv6.13.2.1//NONSGML v1.0//EN
CALSCALE:GREGORIAN
METHOD:PUBLISH
X-ORIGINAL-URL:https://beatchurchasheville.com
X-WR-CALDESC:Events for Beat Church Asheville
REFRESH-INTERVAL;VALUE=DURATION:PT1H
X-Robots-Tag:noindex
X-PUBLISHED-TTL:PT1H
BEGIN:VTIMEZONE
TZID:America/New_York
BEGIN:DAYLIGHT
TZOFFSETFROM:-0500
TZOFFSETTO:-0400
TZNAME:EDT
DTSTART:20250309T070000
END:DAYLIGHT
BEGIN:STANDARD
TZOFFSETFROM:-0400
TZOFFSETTO:-0500
TZNAME:EST
DTSTART:20251102T060000
END:STANDARD
END:VTIMEZONE
BEGIN:VEVENT
DTSTART;TZID=America/New_York:20250107T184500
DTEND;TZID=America/New_York:20250107T211500
DTSTAMP:20260420T123353
CREATED:20241226T165159Z
LAST-MODIFIED:20241226T172035Z
UID:1823-1736275500-1736284500@beatchurchasheville.com
SUMMARY:DJ Fiddlehead
DESCRIPTION:About DJ FIDDLEHEAD\n\n\n\nUnfurling like a mysterious dancing fern in a gentle Appalachian breeze…not unlike the Fibonacci spiral\, only found deep in a mystical temperate rainforest\, Fiddlehead pops up and emerges from the undergrowth with exotic frequencies from all around the great Turtle Island. This particular dancing fern grows with a strong intention to channel healing and transformation through the potent medicina of music and dance. The complex layers and waves take us on a journey through the interwoven mycelial networks\, deep into the core of Pacha Mama and the deepest oceans\, to the streets of Berlin\, out into the dense rainforests of the Amazon\, to the vast deserts of the far East and highest peaks of the Andes\, to the Celtic highlands\, Appalachians\, Cascades\, Sierras\, and Misty Mountains of Middle-Earth. Fiddlehead’s flow is inspired by a lifetime of deep connection to nature\, ceramic art\, teaching\, ceremony\, world travel\, and a passionate study and full immersion in a plethora of musical genres since early childhood. The bass forest is infinite… \n\n\n\n \n\n\n\n\n\n\n\nSchedule\n\n\n\n6:45p Doors open6:55p Movement Lab7:15p Opening Circle7:25p DJ starts9:05p Sound Healing9:15p GoodnightTea service all evening\, included with entry. \n\n\n\nSound BATH\n\n\n\nTBD \n\n\n\nMovement Lab\n\n\n\nNo Movement Lab in January. Instead we’re going to use this time for warming up and socializing. \n\n\n\n \n\n\n\nMassage Therapist\n\n\n\n$2/minute \n\n\n\n\n\n\n\nHelp us set up or tear down in exchange for entry. \n\n\n\n\n\n\n\n\nSign-Up to Volunteer\n\n\n\n\n\n\n\n\nTickets\n\n\n\n\n\n\n\n\n\n\n\n\n\n\n\n\n\nTickets sometimes sell out. Pre-registration tickets are available until 3p the day of the event.Remaining available tickets are sold at the door at the sliding scale price via Venmo or cash.  \n\n\n\nPlease do not send Venmo for pre-registration; you will be refunded and it will not be a valid ticket. 
URL:https://beatchurchasheville.com/event/dj-fiddlehead-2025-01-07/
LOCATION:NC
END:VEVENT
BEGIN:VEVENT
DTSTART;TZID=America/New_York:20250114T184500
DTEND;TZID=America/New_York:20250114T211500
DTSTAMP:20260420T123353
CREATED:20250103T151700Z
LAST-MODIFIED:20250103T151930Z
UID:1834-1736880300-1736889300@beatchurchasheville.com
SUMMARY:DJ Kofdrop
DESCRIPTION:About DJ Kofdrop\n\n\n\nDJ Kofdrop is an ecstatic dance DJ and bass DJ who specializes in creating transformative experiences through music. With an innate understanding of the power of rhythm and movement\, DJ Kofdrop curates sets that are designed to uplift\, inspire\, and connect with the audience on a deep level. His seamless transitions and carefully selected tracks create a dynamic and immersive atmosphere\, inviting dancers to let go and express themselves freely. DJ Kofdrop’s eclectic taste in music allows him to effortlessly blend genres\, incorporating elements of bass\, electronic\, world\, and tribal rhythms to create a unique sonic journey. \n\n\n\n\n\n\n\nSchedule\n\n\n\n6:45p Doors open6:55p Movement Lab7:15p Opening Circle7:25p DJ starts9:05p Sound Healing9:15p GoodnightTea service all evening\, included with entry. \n\n\n\nSound BATH\n\n\n\nLillie Lumina \n\n\n\nMovement Lab\n\n\n\nNo movement lab in January. Instead come warm up and chat with friends\, new and old. \n\n\n\n \n\n\n\nMassage Therapist\n\n\n\n$2/minute \n\n\n\n\n\n\n\nHelp us set up or tear down in exchange for entry. \n\n\n\n\n\n\n\n\nSign-Up to Volunteer\n\n\n\n\n\n\n\n\nTickets\n\n\n\n\n\n\n\n\n\n\n\n\n\n\n\n\n\nTickets sometimes sell out. Pre-registration tickets are available until 3p the day of the event.Remaining available tickets are sold at the door at the sliding scale price via Venmo or cash.  \n\n\n\nPlease do not send Venmo for pre-registration; you will be refunded and it will not be a valid ticket. 
URL:https://beatchurchasheville.com/event/dj-kofdrop-2025-01-14/
LOCATION:NC
ATTACH;FMTTYPE=image/jpeg:https://beatchurchasheville.com/wp-content/uploads/2024/11/Kofdrop-e1730513588769.jpeg
END:VEVENT
BEGIN:VEVENT
DTSTART;TZID=America/New_York:20250121T184500
DTEND;TZID=America/New_York:20250121T211500
DTSTAMP:20260420T123353
CREATED:20250114T163635Z
LAST-MODIFIED:20250114T172112Z
UID:1840-1737485100-1737494100@beatchurchasheville.com
SUMMARY:DJ Morphonic
DESCRIPTION:About DJ morphonic\n\n\n\nJoin DJ Morphonic on the electronic caravan across the shifting sands of sound and time\, through the many diverse rhythms of the world\, to the shores of modern dance music. Gleefully dance cross boarders between the sacred\, the sexy\, the silly\, the shattering\, and the steadfast. Variety is the sonic spice trade of DJ Morphonic and he serves up the right flavor to fit the mood. Dance to hip shaking shanti ratchet and afro pop\, the undulating rhythms of world bass music\, ass shaking funk\, remix and twerk tunes\, and glide through the heart opening sounds of deep world house\, soul\, and so much more. \n\n\n\nMorphonic is the DJ project of Maurice Legendre based in Asheville NC and has been crafting dance experiences for over 15 years. Release your inner freaky butterfly and let yourself dance on the sonic waves of DJ Morphonic. \n\n\n\n\n\n\n\nSchedule\n\n\n\n6:45p Doors open6:55p Movement Lab7:15p Opening Circle7:25p DJ starts9:05p Sound Healing9:15p GoodnightTea service all evening\, included with entry. \n\n\n\nSound BATH\n\n\n\nTBA \n\n\n\nMovement Lab\n\n\n\nNo movement lab in January. Instead come warm up and chat with friends\, new and old. \n\n\n\n \n\n\n\nMassage Therapist\n\n\n\n$2/minute \n\n\n\n\n\n\n\nHelp us set up or tear down in exchange for entry. \n\n\n\n\n\n\n\n\nSign-Up to Volunteer\n\n\n\n\n\n\n\n\nTickets\n\n\n\n\n\n\n\n\n\n\n\n\n\n\n\n\n\nTickets sometimes sell out. Pre-registration tickets are available until 3p the day of the event.Remaining available tickets are sold at the door at the sliding scale price via Venmo or cash.  \n\n\n\nPlease do not send Venmo for pre-registration; you will be refunded and it will not be a valid ticket. 
URL:https://beatchurchasheville.com/event/dj-morphonic-2025-01-21/
LOCATION:NC
END:VEVENT
BEGIN:VEVENT
DTSTART;TZID=America/New_York:20250128T184500
DTEND;TZID=America/New_York:20250128T211500
DTSTAMP:20260420T123353
CREATED:20250120T181508Z
LAST-MODIFIED:20250127T013015Z
UID:1848-1738089900-1738098900@beatchurchasheville.com
SUMMARY:DJ Mookite
DESCRIPTION:About DJ Mookite\n\n\n\nMookite is the eclectic DJ project of Michael Fox\, offering vibrant\, healing sonic journeys grounded in rich\, moody tones. Named after the multicolored jasper stone\, Mookite reflects Michael’s deep connection to sound as a tool for transformation. Just like the stone’s earthy hues of orange and purple\, Mookite’s music weaves together warmth\, groundedness\, and duality to create immersive experiences for dancers. With a background in massage therapy\, Michael brings a unique sensitivity to his sets\, not only to evoke healing but to also get the funk down! Based in Asheville\, NC\, and originally from Richmond\, VA\, Michael channels his passion for sound into both the body and the soul. \n\n\n\n\n\n\n\nSchedule\n\n\n\n6:45p Doors open/warm up7:15p Opening Circle7:25p DJ starts9:05p Sound Healing9:15p GoodnightTea service all evening\, included with entry. \n\n\n\nSound BATH\n\n\n\nDavid Eisenberg \n\n\n\nMovement Lab\n\n\n\nNo movement lab in January \n\n\n\nMassage Therapist\n\n\n\n$2/minute \n\n\n\n\n\n\n\nHelp us set up or tear down in exchange for entry. \n\n\n\n\n\n\n\n\nSign-Up to Volunteer\n\n\n\n\n\n\n\n\nTickets\n\n\n\n\n\n\n\n\n\n\n\n\n\n\n\n\n\nTickets sometimes sell out. Pre-registration tickets are available until 3p the day of the event.Remaining available tickets are sold at the door at the sliding scale price via Venmo or cash.  \n\n\n\nPlease do not send Venmo for pre-registration; you will be refunded and it will not be a valid ticket. 
URL:https://beatchurchasheville.com/event/dj-mookite-2025-01-28/
LOCATION:NC
ATTACH;FMTTYPE=image/jpeg:https://beatchurchasheville.com/wp-content/uploads/2024/10/IMG_8444-2.jpeg
END:VEVENT
END:VCALENDAR