BEGIN:VCALENDAR
VERSION:2.0
PRODID:-//Beat Church Asheville - ECPv6.13.2.1//NONSGML v1.0//EN
CALSCALE:GREGORIAN
METHOD:PUBLISH
X-ORIGINAL-URL:https://beatchurchasheville.com
X-WR-CALDESC:Events for Beat Church Asheville
REFRESH-INTERVAL;VALUE=DURATION:PT1H
X-Robots-Tag:noindex
X-PUBLISHED-TTL:PT1H
BEGIN:VTIMEZONE
TZID:America/New_York
BEGIN:DAYLIGHT
TZOFFSETFROM:-0500
TZOFFSETTO:-0400
TZNAME:EDT
DTSTART:20250309T070000
END:DAYLIGHT
BEGIN:STANDARD
TZOFFSETFROM:-0400
TZOFFSETTO:-0500
TZNAME:EST
DTSTART:20251102T060000
END:STANDARD
END:VTIMEZONE
BEGIN:VEVENT
DTSTART;TZID=America/New_York:20250603T184500
DTEND;TZID=America/New_York:20250603T211500
DTSTAMP:20260420T053535
CREATED:20250506T014140Z
LAST-MODIFIED:20250516T182353Z
UID:2034-1748976300-1748985300@beatchurchasheville.com
SUMMARY:Illusion of Duality
DESCRIPTION:Listen here:  \n\n\n\n\n\n\n\n\n\nAbout Illusion of Duality\n\n\n\nThe Illusion of Duality can be found somewhere in between the Bass & the Treble… This alchemical artist has been on a musical journey since birth to truly re-discover his sound. Born & raised on the west coast playing strings\, percussion & keys\, The Illusion of Duality honed his craft on the decks far before electronic music was popular in the early 2000’s.  \n\n\n\nWith the use of frequency embedded in a universe of rhythm he navigates between the Darkness & the Light to bridge the gap between electronic and organic.  \n\n\n\nOn the dance floor\, his worldly sound will guide you on an ever evolving adventure of downtempo bass\, medicine house and pure vibes sure to lead you “home”. Beyond the good or the evil\, to a place where we are all ONE. \n\n\n\n \n\n\n\n\n\n\n\nSchedule\n\n\n\n6:45p Doors open6:55p Movement Lab7:15p Opening Circle7:25p DJ starts9:05p Sound Healing9:15p GoodnightTea service all evening\, included with entry. \n\n\n\nSound BATH\n\n\n\nMackenzie \n\n\n\nMovement Lab\n\n\n\nEssential Fusion \n\n\n\nwith Violet Hays \n\n\n\nDiscover where all dance forms coalesce\, where movement is distilled down to the most essential building blocks of our constitution. Explore how we move within cycles of time through the interplay\, geometry and archetypal qualities that animate the basic elements of existence. Integration of intuitive and coordinated exercises give space to honor our personal and collective experience through dance. This practice allows our most potent expression of flow state to emerge\, revealing a raw reflection of who we are\, and promotes healing for the whole self. \n\n\n\n\n\n\n\nMassage Therapist\n\n\n\n$2/minute \n\n\n\n\n\n\n\nHelp us set up or tear down in exchange for entry. \n\n\n\n\n\n\n\n\nSign-Up to Volunteer\n\n\n\n\n\n\n\n\nearly bird online Tickets\n\n\n\n\n\n\n\n\n\n\n\n\n\n\n\n\n\n\n\n\n\nTickets sometimes sell out. Pre-registration tickets are available until 3p the day of the event.Remaining available tickets are sold at the door at the door sliding scale price of $18-30 via Venmo or cash.  \n\n\n\nPlease do not send Venmo for pre-registration; you will be refunded and it will not be a valid ticket. 
URL:https://beatchurchasheville.com/event/illusion-of-duality-2025-06-03/
LOCATION:Social Hall at the JCC\, 236 Charlotte Street\, Asheville\, NC\, 28801
ATTACH;FMTTYPE=image/png:https://beatchurchasheville.com/wp-content/uploads/2025/02/IllusionXofXDuality.png
END:VEVENT
BEGIN:VEVENT
DTSTART;TZID=America/New_York:20250610T184500
DTEND;TZID=America/New_York:20250610T211500
DTSTAMP:20260420T053535
CREATED:20250506T022530Z
LAST-MODIFIED:20250516T181737Z
UID:2036-1749581100-1749590100@beatchurchasheville.com
SUMMARY:DJ Osiah
DESCRIPTION:Listen here:  \n\n\n\n\n\n\n\n\n\nAbout DJ Osiah\n\n\n\n \n\n\n\nDJ Osiah is a dancer turned DJ\, crafting ecstatic dance medicine journeys that break through the limiting ideas as to what “spiritual” is supposed to look like. Join me and move from the mental space to the heart space and beyond. Come\, experience God’s secret ratchet side\, as I commit random acts of chaotic goodness\, and drop dope bangers for nothing less than the ecstatic rebirth of your inner wild child. \n\n\n\n \n\n\n\n\n\n\n\nSchedule\n\n\n\n6:45p Doors open6:55p Movement Lab7:15p Opening Circle7:25p DJ starts9:05p Sound Healing9:15p GoodnightTea service all evening\, included with entry. \n\n\n\nSound BATH\n\n\n\nTBD \n\n\n\nMovement Lab\n\n\n\nTBD \n\n\n\n \n\n\n\nMassage Therapist\n\n\n\n$2/minute \n\n\n\n\n\n\n\nHelp us set up or tear down in exchange for entry. \n\n\n\n\n\n\n\n\nSign-Up to Volunteer\n\n\n\n\n\n\n\n\nearly bird online Tickets\n\n\n\n\n\n\n\n\n\n\n\n\n\n\n\n\n\n\n\n\n\nTickets sometimes sell out. Pre-registration tickets are available until 3p the day of the event.Remaining available tickets are sold at the door at the door sliding scale price of $18-30 via Venmo or cash.  \n\n\n\nPlease do not send Venmo for pre-registration; you will be refunded and it will not be a valid ticket. 
URL:https://beatchurchasheville.com/event/dj-osiah-2025-06-10/
LOCATION:Social Hall at the JCC\, 236 Charlotte Street\, Asheville\, NC\, 28801
ATTACH;FMTTYPE=image/jpeg:https://beatchurchasheville.com/wp-content/uploads/2025/05/DJXOsiah.jpg
END:VEVENT
BEGIN:VEVENT
DTSTART;TZID=America/New_York:20250617T184500
DTEND;TZID=America/New_York:20250617T211500
DTSTAMP:20260420T053535
CREATED:20250506T232055Z
LAST-MODIFIED:20250516T181447Z
UID:2039-1750185900-1750194900@beatchurchasheville.com
SUMMARY:DJ Morphonic
DESCRIPTION:Listen here:  \n\n\n\n\n\n\n\n\n\nAbout DJ Morphonic\n\n\n\n \n\n\n\nJoin DJ Morphonic on the electronic caravan across the shifting sands of sound and time\, through the many diverse rhythms of the world\, to the shores of modern dance music. Gleefully dance cross boarders between the sacred\, the sexy\, the silly\, the shattering\, and the steadfast. Variety is the sonic spice trade of DJ Morphonic and he serves up the right flavor to fit the mood.  \n\n\n\nDance to hip shaking shanti ratchet and afro pop\, the undulating rhythms of world bass music\, ass shaking funk\, remix and twerk tunes\, and glide through the heart opening sounds of deep world house\, soul\, and so much more. \n\n\n\nMorphonic is the DJ project of Maurice Legendre based in Asheville NC and has been crafting dance experiences for over 15 years. Release your inner freaky butterfly and let yourself dance on the sonic waves of DJ Morphonic. \n\n\n\n \n\n\n\n \n\n\n\n\n\n\n\nSchedule\n\n\n\n6:45p Doors open6:55p Movement Lab7:15p Opening Circle7:25p DJ starts9:05p Sound Healing9:15p GoodnightTea service all evening\, included with entry. \n\n\n\nSound BATH\n\n\n\nTBD \n\n\n\nMovement Lab\n\n\n\nEssential Fusion \n\n\n\nwith Violet Hays \n\n\n\nDiscover where all dance forms coalesce\, where movement is distilled down to the most essential building blocks of our constitution. Explore how we move within cycles of time through the interplay\, geometry and archetypal qualities that animate the basic elements of existence. Integration of intuitive and coordinated exercises give space to honor our personal and collective experience through dance. This practice allows our most potent expression of flow state to emerge\, revealing a raw reflection of who we are\, and promotes healing for the whole self. \n\n\n\n\n\n\n\nMassage Therapist\n\n\n\n$2/minute \n\n\n\n\n\n\n\nHelp us set up or tear down in exchange for entry. \n\n\n\n\n\n\n\n\nSign-Up to Volunteer\n\n\n\n\n\n\n\n\nearly bird online Tickets\n\n\n\n\n\n\n\n\n\n\n\n\n\n\n\n\n\n\n\n\n\nTickets sometimes sell out. Pre-registration tickets are available until 3p the day of the event.Remaining available tickets are sold at the door at the door sliding scale price of $18-30 via Venmo or cash.  \n\n\n\nPlease do not send Venmo for pre-registration; you will be refunded and it will not be a valid ticket. 
URL:https://beatchurchasheville.com/event/dj-morphonic-2025-06-17/
LOCATION:Social Hall at the JCC\, 236 Charlotte Street\, Asheville\, NC\, 28801
ATTACH;FMTTYPE=image/jpeg:https://beatchurchasheville.com/wp-content/uploads/2025/02/DJ-Morphonic.jpeg
END:VEVENT
BEGIN:VEVENT
DTSTART;TZID=America/New_York:20250624T184500
DTEND;TZID=America/New_York:20250624T211500
DTSTAMP:20260420T053535
CREATED:20250520T182845Z
LAST-MODIFIED:20250520T182935Z
UID:2065-1750790700-1750799700@beatchurchasheville.com
SUMMARY:DJ Mikaya
DESCRIPTION:Listen here: https://soundcloud.com/mikayaswabb \n\n\n\nAbout DJ Mikaya\n\n\n\nMIKAYA (Micah Swabb) is an Ecstatic Dance DJ and facilitator for cathartic dance events. He has a deep understanding of set arrangements for drug-free dance events\, yoga classes and ceremonies through his 12+ years of experience. MIKAYA’s mixes inspire meditation through movement in ways that widen the scope of one’s self-awareness and self-expression. \n\n\n\nHis mixes use a wide variety of musical genres like global bass\, tropical house\, techno\, glitch hop\, downtempo\, classical and ambient. These musical journeys begin peacefully\, build momentum and contrast\, and then land softly with resolution and grace. MIKAYA also produces mash-ups and mini-mixes in various genres. He teaches people how to make world class ecstatic dance mixes both from his home in Asheville\, NC and virtually online. \n\n\n\n \n\n\n\n\n\n\n\nSchedule\n\n\n\n6:45p Doors open6:55p Movement Lab7:15p Opening Circle7:25p DJ starts9:05p Sound Healing9:15p GoodnightTea service all evening\, included with entry. \n\n\n\nSound BATH\n\n\n\nTBD \n\n\n\nMovement Lab\n\n\n\nGround down into your body with Anna (ah-na) of Earthly Care \n\n\n\nUsing our breath as the drumbeat\, this energy work series will be all about dropping deeply into the body. We’ll connect with the land and mountains we call our home\, and enter the dance in true presence. Through our awareness we can receive the delicious medicine offered by the present moment! And truly shake out and release what’s needing to be moved through us. Together we’ll weave an energetic + loving container to boogie down in. Let’s root into our bodies and feel the bliss of authentic embodiment! \n\n\n\nMassage Therapist\n\n\n\n$2/minute \n\n\n\n\n\n\n\nHelp us set up or tear down in exchange for entry. \n\n\n\n\n\n\n\n\nSign-Up to Volunteer\n\n\n\n\n\n\n\n\nTickets\n\n\n\n\n\n\n\n\n\n\n\n\n\n\n\n\n\n\n\n\n\nTickets sometimes sell out. Pre-registration tickets are available until 3p the day of the event.Remaining available tickets are sold at the door at the door sliding scale price via Venmo or cash.  \n\n\n\nPlease do not send Venmo for pre-registration; you will be refunded and it will not be a valid ticket. 
URL:https://beatchurchasheville.com/event/dj-mikaya-2025-06-24/
LOCATION:Social Hall at the JCC\, 236 Charlotte Street\, Asheville\, NC\, 28801
ATTACH;FMTTYPE=image/jpeg:https://beatchurchasheville.com/wp-content/uploads/2025/01/DJXMikaya.jpg
END:VEVENT
END:VCALENDAR